BEGIN:VCALENDAR
VERSION:2.0
PRODID:-//Plone.org//NONSGML plone.app.event//EN
X-WR-TIMEZONE:Europe/Vienna
BEGIN:VEVENT
SUMMARY:Rund um den Wiener Zentralfriedhof
DTSTART;TZID=Europe/Vienna;VALUE=DATE-TIME:20260529T100000
DTEND;TZID=Europe/Vienna;VALUE=DATE-TIME:20260529T130000
DTSTAMP;VALUE=DATE-TIME:20260422T152346Z
UID:b1dc0a64946845e1bd4c79a03c7bdbba@aaf-live-raw.web.kup.tirol
CATEGORIES:Architekturtage 2026,AT26
CREATED;VALUE=DATE-TIME:20260312T113416Z
DESCRIPTION:Mit: Christian Tabernig\, Eva Schrade\, Gustav Pichelmann\, Li
 sa Pernkopf und Bernhard Salzer. In Begleitung von: Felix Siegrist / ÖGFA
GEO:48.15537;16.44178
LAST-MODIFIED;VALUE=DATE-TIME:20260324T164942Z
LOCATION;ALTREP="https://oegfa.at/lib/adressbuch/wiener-zentralfriedhof":W
 iener Zentralfriedhof\, Simmeringer Hauptstraße 339\, 1110 Wien\, Österr
 eich
URL:https://oegfa.at/programm/architekturtage/architekturtage-2026/rund-um
 -den-wiener-zentralfriedhof
END:VEVENT
BEGIN:VTIMEZONE
TZID:Europe/Vienna
X-LIC-LOCATION:Europe/Vienna
BEGIN:DAYLIGHT
DTSTART;VALUE=DATE-TIME:20260329T030000
TZNAME:CEST
TZOFFSETFROM:+0100
TZOFFSETTO:+0200
END:DAYLIGHT
END:VTIMEZONE
END:VCALENDAR
