BEGIN:VCALENDAR
VERSION:2.0
PRODID:-//Plone.org//NONSGML plone.app.event//EN
X-WR-TIMEZONE:Europe/Vienna
BEGIN:VEVENT
SUMMARY:Auftakt der Architekturtage in der ÖGFA
DTSTART;TZID=Europe/Vienna;VALUE=DATE-TIME:20260528T160000
DTEND;TZID=Europe/Vienna;VALUE=DATE-TIME:20260528T200000
DTSTAMP;VALUE=DATE-TIME:20260422T133416Z
UID:1a92d039ae654cc396ac159d7a9b80d4@aaf-live-raw.web.kup.tirol
CATEGORIES:AT26,Architekturtage 2026
CREATED;VALUE=DATE-TIME:20260422T084547Z
DESCRIPTION:Tag der offenen Tür mit dem Vorstand\, dem Office\, den stude
 ntischen Mitwirkenden sowie Freund*innen und Wegbegleiter*innen der ÖGFA
GEO:48.2216148;16.3598401
LAST-MODIFIED;VALUE=DATE-TIME:20260422T111416Z
LOCATION;ALTREP="https://oegfa.at/lib/adressbuch/oegfa":ÖGFA\, Liechtenst
 einstr. 46a/2/5\, 1090 Wien\, Österreich
URL:https://oegfa.at/programm/architekturtage/architekturtage-2026/archite
 kturtage-2026-in-oesterreich-offene-tuer-in-der-oegfa
END:VEVENT
BEGIN:VTIMEZONE
TZID:Europe/Vienna
X-LIC-LOCATION:Europe/Vienna
BEGIN:DAYLIGHT
DTSTART;VALUE=DATE-TIME:20260329T030000
TZNAME:CEST
TZOFFSETFROM:+0100
TZOFFSETTO:+0200
END:DAYLIGHT
END:VTIMEZONE
END:VCALENDAR
